BEGIN:VCALENDAR
VERSION:2.0
PRODID:icalendar-ruby
CALSCALE:GREGORIAN
METHOD:PUBLISH
BEGIN:VEVENT
DTSTAMP:20260420T120216Z
UID:337-1555662@stannessteveston.ca
DTSTART:20261007T180000Z
DTEND:20261007T190000Z
CLASS:PUBLIC
CREATED:20260420T030807
DESCRIPTION:Bible Study during the Easter Season\nOnline at 7pm. The Zoom l
 ink can be found in the Wednesday email or contact the Rev. Marnie Peterso
 n at rector@stannessteveston.ca\n\n"Gospel Based Discipleship" starts on W
 ednesday\, April 15.\n\nWe will spend time focused on the Gospel readings 
 and ask ourselves:\n\nWhat word(s)\, idea(s)\, or phrase(s) stand out for 
 you?\nWhat is Jesus (the Gospel) saying to you?\nWhat is Jesus (the Gospel
 ) calling you to do?\n\nYou can learn more about Gospel based discipleship
  and download a booklet here.\nJoin us on Zoom at 7pm on Wednesday evenin
 g beginning April 15. All are welcome!\n\n
LAST-MODIFIED:20260420T030807
LOCATION:
SUMMARY:Weekly Bible Study
URL;VALUE=URI:https://www.stannessteveston.ca/events/weekly-bible-study/202
 6-10-07
ATTACH;FILENAME=bible-study.jpeg;FMTTYPE=image/jpeg:https://dq5pwpg1q8ru0.c
 loudfront.net/2025/09/24/18/43/09/56592826-0a1d-4094-8f92-a3a4be704752/bib
 le-study.jpeg
END:VEVENT
END:VCALENDAR
