BEGIN:VCALENDAR
VERSION:2.0
PRODID:icalendar-ruby
CALSCALE:GREGORIAN
METHOD:PUBLISH
BEGIN:VEVENT
DTSTAMP:20260425T232410Z
UID:357-1502190@stannessteveston.ca
DTSTART:20260524T013000Z
DTEND:20260524T043000Z
CLASS:PUBLIC
CREATED:20260410T121746
DESCRIPTION:
LAST-MODIFIED:20260410T121746
LOCATION:
SUMMARY:Thank You For The Music
URL;VALUE=URI:https://www.stannessteveston.ca/events/thank-you-for-the-musi
 c/2026-05-23
ATTACH;FILENAME=1.png;FMTTYPE=image/png:https://dq5pwpg1q8ru0.cloudfront.ne
 t/2026/04/10/19/17/46/8aeafc33-2fb9-4c58-9c91-982858903801/1.png
END:VEVENT
END:VCALENDAR
