BEGIN:VCALENDAR
VERSION:2.0
PRODID:icalendar-ruby
CALSCALE:GREGORIAN
METHOD:PUBLISH
BEGIN:VEVENT
DTSTAMP:20260420T045818Z
UID:331-1554672@stannessteveston.ca
DTSTART:20261019T180000Z
DTEND:20261019T200000Z
CLASS:PUBLIC
CREATED:20260419T213724
DESCRIPTION:St. Anne's Walkers\n \n\nSt. Anne's has started a walking grou
 p.\n \nWe meet on Monday morning -- weather permitting. We gather at 11:0
 0 am in Steveston &amp\; spend the next hour or so rambling\, at a gentle 
 pace\, along the dykes. After that\, we find a cafe where we sit &amp\; so
 cialize.\n \nIf you'd like to join Amanda\, Diane\, Sara &amp\; Sharmila\
 , then please email Cliff at cliff.in.ladner@gmail.com\n
LAST-MODIFIED:20260419T213724
LOCATION:
SUMMARY:St. Anne's Walkers
URL;VALUE=URI:https://www.stannessteveston.ca/events/st-annes-walkers/2026-
 10-19
ATTACH;FILENAME=IMG_2914.jpeg;FMTTYPE=image/jpeg:https://dq5pwpg1q8ru0.clou
 dfront.net/2025/03/31/20/53/06/8d3e2200-4b9d-465b-a2c2-09d182623c3e/IMG_29
 14.jpeg
ATTACH;FILENAME=unnamed.jpg;FMTTYPE=image/jpeg:https://dq5pwpg1q8ru0.cloudf
 ront.net/2025/03/23/20/16/21/5ff93827-1572-47ce-b10b-837bfc432a38/unnamed.
 jpg
ATTACH;FILENAME=walkers.png;FMTTYPE=image/png:https://dq5pwpg1q8ru0.cloudfr
 ont.net/2025/04/15/20/01/42/1091e497-b94d-4fa4-8c62-63a4a76034af/walkers.p
 ng
END:VEVENT
END:VCALENDAR
