BEGIN:VCALENDAR
VERSION:2.0
PRODID:icalendar-ruby
CALSCALE:GREGORIAN
METHOD:PUBLISH
BEGIN:VEVENT
DTSTAMP:20260420T150456Z
UID:255-1556248@stannessteveston.ca
DTSTART:20261021T170000Z
DTEND:20261022T060000Z
CLASS:PUBLIC
CREATED:20260420T054319
DESCRIPTION:Join us for a spoken Mid-Week Eucharist service on Wednesdays a
 t 10 am in the Sanctuary.
LAST-MODIFIED:20260420T054319
LOCATION:
SUMMARY:Mid-Week Eucharist
URL;VALUE=URI:https://www.stannessteveston.ca/events/mid-week-eucharist/202
 6-10-21
ATTACH;FILENAME=waffers.jpeg;FMTTYPE=image/jpeg:https://dq5pwpg1q8ru0.cloud
 front.net/2022/09/01/17/40/32/7126f1ba-68c3-4ee1-95a9-f7b0222372e9/waffers
 .jpeg
END:VEVENT
END:VCALENDAR
